Workbook

Sheet Buku hutang
A1: Tarikh | B1: Pelanggan | C1: Keterangan | D1: Hutang | E1: Bayaran | F1: Baki
A2: 46328 | B2: Ahmad Faizal | C2: Beras, minyak masak, telur (contoh) | D2: 250 | F2: =IF(B2="","",SUMIF($B$2:B2,B2,$D$2:D2)-SUMIF($B$2:B2,B2,$E$2:E2))
A3: 46329 | B3: Siti Aminah | C3: Sabun basuh (contoh) | D3: 120 | F3: =IF(B3="","",SUMIF($B$2:B3,B3,$D$2:D3)-SUMIF($B$2:B3,B3,$E$2:E3))
A4: 46331 | B4: Ahmad Faizal | C4: Bayar tunai (contoh) | E4: 100 | F4: =IF(B4="","",SUMIF($B$2:B4,B4,$D$2:D4)-SUMIF($B$2:B4,B4,$E$2:E4))
F5: =IF(B5="","",SUMIF($B$2:B5,B5,$D$2:D5)-SUMIF($B$2:B5,B5,$E$2:E5))
F6: =IF(B6="","",SUMIF($B$2:B6,B6,$D$2:D6)-SUMIF($B$2:B6,B6,$E$2:E6))
F7: =IF(B7="","",SUMIF($B$2:B7,B7,$D$2:D7)-SUMIF($B$2:B7,B7,$E$2:E7))
F8: =IF(B8="","",SUMIF($B$2:B8,B8,$D$2:D8)-SUMIF($B$2:B8,B8,$E$2:E8))
F9: =IF(B9="","",SUMIF($B$2:B9,B9,$D$2:D9)-SUMIF($B$2:B9,B9,$E$2:E9))
F10: =IF(B10="","",SUMIF($B$2:B10,B10,$D$2:D10)-SUMIF($B$2:B10,B10,$E$2:E10))
F11: =IF(B11="","",SUMIF($B$2:B11,B11,$D$2:D11)-SUMIF($B$2:B11,B11,$E$2:E11))
F12: =IF(B12="","",SUMIF($B$2:B12,B12,$D$2:D12)-SUMIF($B$2:B12,B12,$E$2:E12))
F13: =IF(B13="","",SUMIF($B$2:B13,B13,$D$2:D13)-SUMIF($B$2:B13,B13,$E$2:E13))
F14: =IF(B14="","",SUMIF($B$2:B14,B14,$D$2:D14)-SUMIF($B$2:B14,B14,$E$2:E14))
F15: =IF(B15="","",SUMIF($B$2:B15,B15,$D$2:D15)-SUMIF($B$2:B15,B15,$E$2:E15))
F16: =IF(B16="","",SUMIF($B$2:B16,B16,$D$2:D16)-SUMIF($B$2:B16,B16,$E$2:E16))
... F301: =IF(B301="","",SUMIF($B$2:B301,B301,$D$2:D301)-SUMIF($B$2:B301,B301,$E$2:E301))

Sheet Pelanggan
A1: Pelanggan | B1: No. telefon | C1: Jumlah hutang | D1: Jumlah bayaran | E1: Baki
A2: Ahmad Faizal | B2: 012-000 0000 | C2: =IF(A2="","",SUMIF('Buku hutang'!$B:$B,A2,'Buku hutang'!$D:$D)) | D2: =IF(A2="","",SUMIF('Buku hutang'!$B:$B,A2,'Buku hutang'!$E:$E)) | E2: =IF(A2="","",C2-D2)
A3: Siti Aminah | C3: =IF(A3="","",SUMIF('Buku hutang'!$B:$B,A3,'Buku hutang'!$D:$D)) | D3: =IF(A3="","",SUMIF('Buku hutang'!$B:$B,A3,'Buku hutang'!$E:$E)) | E3: =IF(A3="","",C3-D3)
C4: =IF(A4="","",SUMIF('Buku hutang'!$B:$B,A4,'Buku hutang'!$D:$D)) | D4: =IF(A4="","",SUMIF('Buku hutang'!$B:$B,A4,'Buku hutang'!$E:$E)) | E4: =IF(A4="","",C4-D4)
C5: =IF(A5="","",SUMIF('Buku hutang'!$B:$B,A5,'Buku hutang'!$D:$D)) | D5: =IF(A5="","",SUMIF('Buku hutang'!$B:$B,A5,'Buku hutang'!$E:$E)) | E5: =IF(A5="","",C5-D5)
C6: =IF(A6="","",SUMIF('Buku hutang'!$B:$B,A6,'Buku hutang'!$D:$D)) | D6: =IF(A6="","",SUMIF('Buku hutang'!$B:$B,A6,'Buku hutang'!$E:$E)) | E6: =IF(A6="","",C6-D6)
C7: =IF(A7="","",SUMIF('Buku hutang'!$B:$B,A7,'Buku hutang'!$D:$D)) | D7: =IF(A7="","",SUMIF('Buku hutang'!$B:$B,A7,'Buku hutang'!$E:$E)) | E7: =IF(A7="","",C7-D7)
C8: =IF(A8="","",SUMIF('Buku hutang'!$B:$B,A8,'Buku hutang'!$D:$D)) | D8: =IF(A8="","",SUMIF('Buku hutang'!$B:$B,A8,'Buku hutang'!$E:$E)) | E8: =IF(A8="","",C8-D8)
C9: =IF(A9="","",SUMIF('Buku hutang'!$B:$B,A9,'Buku hutang'!$D:$D)) | D9: =IF(A9="","",SUMIF('Buku hutang'!$B:$B,A9,'Buku hutang'!$E:$E)) | E9: =IF(A9="","",C9-D9)
C10: =IF(A10="","",SUMIF('Buku hutang'!$B:$B,A10,'Buku hutang'!$D:$D)) | D10: =IF(A10="","",SUMIF('Buku hutang'!$B:$B,A10,'Buku hutang'!$E:$E)) | E10: =IF(A10="","",C10-D10)
C11: =IF(A11="","",SUMIF('Buku hutang'!$B:$B,A11,'Buku hutang'!$D:$D)) | D11: =IF(A11="","",SUMIF('Buku hutang'!$B:$B,A11,'Buku hutang'!$E:$E)) | E11: =IF(A11="","",C11-D11)
C12: =IF(A12="","",SUMIF('Buku hutang'!$B:$B,A12,'Buku hutang'!$D:$D)) | D12: =IF(A12="","",SUMIF('Buku hutang'!$B:$B,A12,'Buku hutang'!$E:$E)) | E12: =IF(A12="","",C12-D12)
C13: =IF(A13="","",SUMIF('Buku hutang'!$B:$B,A13,'Buku hutang'!$D:$D)) | D13: =IF(A13="","",SUMIF('Buku hutang'!$B:$B,A13,'Buku hutang'!$E:$E)) | E13: =IF(A13="","",C13-D13)
C14: =IF(A14="","",SUMIF('Buku hutang'!$B:$B,A14,'Buku hutang'!$D:$D)) | D14: =IF(A14="","",SUMIF('Buku hutang'!$B:$B,A14,'Buku hutang'!$E:$E)) | E14: =IF(A14="","",C14-D14)
C15: =IF(A15="","",SUMIF('Buku hutang'!$B:$B,A15,'Buku hutang'!$D:$D)) | D15: =IF(A15="","",SUMIF('Buku hutang'!$B:$B,A15,'Buku hutang'!$E:$E)) | E15: =IF(A15="","",C15-D15)
... C101: =IF(A101="","",SUMIF('Buku hutang'!$B:$B,A101,'Buku hutang'!$D:$D)) | D101: =IF(A101="","",SUMIF('Buku hutang'!$B:$B,A101,'Buku hutang'!$E:$E)) | E101: =IF(A101="","",C101-D101)

Sheet Cara guna
A1: Cara guna
A2: Untuk setiap hutang atau bayaran, tulis satu baris dalam helaian "Buku hutang": tarikh, pelanggan, keterangan dan jumlahnya.
A3: Tulis nilai barang yang diambil dalam lajur "Hutang" dan wang yang dibayar dalam lajur "Bayaran". Lajur "Baki" mengira sendiri hutang pelanggan itu sehingga hari tersebut.
A4: Tulis nama pelanggan sama persis pada setiap baris: "Ahmad Faizal" dan "Ahmad" dikira sebagai dua pelanggan.
A5: Dalam helaian "Pelanggan", tulis nama setiap pelanggan sekali sahaja; jumlah hutang, jumlah bayaran dan bakinya terisi sendiri.
A6: Padam baris yang bertanda "(contoh)", kemudian tulis rekod anda sendiri.
A7: Untuk menghantar peringatan, berkongsi penyata dan menyimpan buku dalam telefon, aplikasi Baki Fast percuma.
A9: Baki Fast: https://bakifast.com/
